BEGIN:VCALENDAR
VERSION:2.0
CALSCALE:GREGORIAN
PRODID:-//Diputació de Barcelona//DibaCMS//EN
BEGIN:VEVENT
UID:3335
DTSTAMP:20260423T032759
DTSTART:20190308T233000
DTEND:20190308T233000
SUMMARY:Festa del Contribuent 2019 - Ball amb DJ Delay
LOCATION:El Casal 
METHOD:PUBLISH
X-WR-CALNAME:info.pont@elpont.cat
X-WR-TIMEZONE:Europe/Madrid
DESCRIPTION:
URI:https://www.elpont.cat/actualitat/agenda/festa-del-contribuent-2019-ball-amb-dj-delay.html
CLASS:PUBLIC
END:VEVENT
END:VCALENDAR
