BEGIN:VCALENDAR
VERSION:2.0
CALSCALE:GREGORIAN
PRODID:-//Diputació de Barcelona//DibaCMS//EN
BEGIN:VEVENT
UID:3336
DTSTAMP:20260423T040912
DTSTART:20190308T233000
DTEND:20190308T233000
SUMMARY:Festa del Contribuent 2019 - Concert "El club de las muñecas"
LOCATION:Sant Pere Regalat, 18-28 08254 El Pont de Vilomara i Rocafort
METHOD:PUBLISH
X-WR-CALNAME:info.pont@elpont.cat
X-WR-TIMEZONE:Europe/Madrid
DESCRIPTION:
URI:https://www.elpont.cat/actualitat/agenda/festa-del-contribuent-2019-concert-el-club-de-las-munecas.html
CLASS:PUBLIC
END:VEVENT
END:VCALENDAR
