BEGIN:VCALENDAR
VERSION:2.0
CALSCALE:GREGORIAN
PRODID:-//Diputació de Barcelona//DibaCMS//EN
BEGIN:VEVENT
UID:3338
DTSTAMP:20260423T020055
DTSTART:20190309T120000
DTEND:20190309T120000
SUMMARY:Festa del Contribuent 2019 - Cinquena trobada de penyes
LOCATION:Passeig de la Pau, s/n 08254 El Pont de Vilomara i Rocafort
METHOD:PUBLISH
X-WR-CALNAME:info.pont@elpont.cat
X-WR-TIMEZONE:Europe/Madrid
DESCRIPTION:Concurs de paelles per penyes: lliurament d'un obsequi a la penya guanyadora.

Els que no vulguin participar al concurs podran portar el dinar de casa.

També hi haurà inflables i, després del dinar, PenyiBingo obert a tothom.

Cal inscripció prèvia de les penyes a l'Ajuntament

URI:https://www.elpont.cat/actualitat/agenda/festa-del-contribuent-2019-cinquena-trobada-de-penyes.html
CLASS:PUBLIC
END:VEVENT
END:VCALENDAR
