BEGIN:VCALENDAR
VERSION:2.0
CALSCALE:GREGORIAN
PRODID:-//Diputació de Barcelona//DibaCMS//EN
BEGIN:VEVENT
UID:3339
DTSTAMP:20260423T020040
DTSTART:20190309T180000
DTEND:20190309T180000
SUMMARY:Festa del Contribuent 2019 - Concert
LOCATION:Sant Pere Regalat, 18-28 08254 El Pont de Vilomara i Rocafort
METHOD:PUBLISH
X-WR-CALNAME:info.pont@elpont.cat
X-WR-TIMEZONE:Europe/Madrid
DESCRIPTION:Amb l'orquestra Costa Brava.

URI:https://www.elpont.cat/actualitat/agenda/festa-del-contribuent-2019-concert.html
CLASS:PUBLIC
END:VEVENT
END:VCALENDAR
