BEGIN:VCALENDAR
VERSION:2.0
CALSCALE:GREGORIAN
PRODID:-//Diputació de Barcelona//DibaCMS//EN
BEGIN:VEVENT
UID:3340
DTSTAMP:20260423T044248
DTSTART:20190309T193000
DTEND:20190309T193000
SUMMARY:Festa del Contribuent 2019 - Proclamació de la Pubilla, Dama i l'Hereu 2019
LOCATION:Sant Pere Regalat, 18-28 08254 El Pont de Vilomara i Rocafort
METHOD:PUBLISH
X-WR-CALNAME:info.pont@elpont.cat
X-WR-TIMEZONE:Europe/Madrid
DESCRIPTION:Cercavila amb Pubilles, Dames i Hereus acompanyats pels Gegants del Pont de Vilomara i Rocafort. Sortida de la cercavila des de l'Ajuntament, arribada i proclamació al Centre Cívic.

Durant l'acte actuarà l'Esbart Dansaire Vilomarenc.

URI:https://www.elpont.cat/actualitat/agenda/festa-del-contribuent-2019-proclamacio-de-la-pubilla-dama-i-lhereu-2019.html
CLASS:PUBLIC
END:VEVENT
END:VCALENDAR
