BEGIN:VCALENDAR
VERSION:2.0
CALSCALE:GREGORIAN
PRODID:-//Diputació de Barcelona//DibaCMS//EN
BEGIN:VEVENT
UID:3343
DTSTAMP:20260423T022612
DTSTART:20190310T190000
DTEND:20190310T190000
SUMMARY:Festa del Contribuent 2019 - Arribada del recaptador i sorteig del contribuent
LOCATION:Sant Pere Regalat, 18-28 08254 El Pont de Vilomara i Rocafort
METHOD:PUBLISH
X-WR-CALNAME:info.pont@elpont.cat
X-WR-TIMEZONE:Europe/Madrid
DESCRIPTION:Amb la "Batukada Shangó" i l'actuació de l'escola de dansa "Pure Dance".

URI:https://www.elpont.cat/actualitat/agenda/festa-del-contribuent-2019-arribada-del-recaptador-i-sorteig-del-contribuent.html
CLASS:PUBLIC
END:VEVENT
END:VCALENDAR
