BEGIN:VCALENDAR
VERSION:2.0
CALSCALE:GREGORIAN
PRODID:-//Diputació de Barcelona//DibaCMS//EN
BEGIN:VEVENT
UID:3344
DTSTAMP:20260423T011718
DTSTART:20190310T120000
DTEND:20190310T120000
SUMMARY:Festa del Contribuent 2019 - Encierro pamplonica
LOCATION:Sortida des de la Plaça de l'Ajuntament 
METHOD:PUBLISH
X-WR-CALNAME:info.pont@elpont.cat
X-WR-TIMEZONE:Europe/Madrid
DESCRIPTION:Per a petits i grans.

Es recomana anar vestit de blanc i mocador vermell al coll que podreu recollir gratuïtament a l'Ajuntament fins divendres 8 de març.

URI:https://www.elpont.cat/actualitat/agenda/festa-del-contribuent-2019-encierro-pamplonica.html
CLASS:PUBLIC
END:VEVENT
END:VCALENDAR
