BEGIN:VCALENDAR
VERSION:2.0
CALSCALE:GREGORIAN
PRODID:-//Diputació de Barcelona//DibaCMS//EN
BEGIN:VEVENT
UID:3345
DTSTAMP:20260423T022628
DTSTART:20190310T104500
DTEND:20190310T104500
SUMMARY:Festa del Contribuent 2019 - Missa cantada
LOCATION:Plaça Major, s/n 08254 El Pont de Vilomara i Rocafort
METHOD:PUBLISH
X-WR-CALNAME:info.pont@elpont.cat
X-WR-TIMEZONE:Europe/Madrid
DESCRIPTION:
URI:https://www.elpont.cat/actualitat/agenda/festa-del-contribuent-2019-missa-cantada.html
CLASS:PUBLIC
END:VEVENT
END:VCALENDAR
