BEGIN:VCALENDAR
VERSION:2.0
CALSCALE:GREGORIAN
PRODID:-//Diputació de Barcelona//DibaCMS//EN
BEGIN:VEVENT
UID:3346
DTSTAMP:20260423T035616
DTSTART:20190311T180000
DTEND:20190311T180000
SUMMARY:Festa del Contribuent 2019 - Berenar ball per a jubilats
LOCATION:Sant Pere Regalat, 18-28 08254 El Pont de Vilomara i Rocafort
METHOD:PUBLISH
X-WR-CALNAME:info.pont@elpont.cat
X-WR-TIMEZONE:Europe/Madrid
DESCRIPTION:Recollida de tiquets a la Casa de la Cultura a partir de dilluns 4 de març.

URI:https://www.elpont.cat/actualitat/agenda/festa-del-contribuent-2019-berenar-ball-per-a-jubilats.html
CLASS:PUBLIC
END:VEVENT
END:VCALENDAR
