BEGIN:VCALENDAR
VERSION:2.0
CALSCALE:GREGORIAN
PRODID:-//Diputació de Barcelona//DibaCMS//EN
BEGIN:VEVENT
UID:3347
DTSTAMP:20260423T023403
DTSTART:20190311T170000
DTEND:20190311T170000
SUMMARY:Festa del Contribuent 2019 - Les nòmades
LOCATION:Sortida des de la Plaça de l'Ajuntament, arribada al Casal 
METHOD:PUBLISH
X-WR-CALNAME:info.pont@elpont.cat
X-WR-TIMEZONE:Europe/Madrid
DESCRIPTION:Són unes criatures de grans dimensions arribades de terres de fantasia que ens acompanyaran a través d'un sorprenent viatge visual i sonor pels 5 continents.

Després de la cercavila hi haurà cinema i crispetes per als més petits.

URI:https://www.elpont.cat/actualitat/agenda/festa-del-contribuent-2019-les-nomades.html
CLASS:PUBLIC
END:VEVENT
END:VCALENDAR
