BEGIN:VCALENDAR
VERSION:2.0
CALSCALE:GREGORIAN
PRODID:-//Diputació de Barcelona//DibaCMS//EN
BEGIN:VEVENT
UID:3348
DTSTAMP:20260423T033734
DTSTART:20190314T150000
DTEND:20190314T150000
SUMMARY:Dia internacional de les dones - Taller pràctic "Introducció al tapping"
LOCATION:Sant Pere Regalat, 72, baixos 08254 El Pont de Vilomara i Rocafort
METHOD:PUBLISH
X-WR-CALNAME:info.pont@elpont.cat
X-WR-TIMEZONE:Europe/Madrid
DESCRIPTION:Taller pràctic “Introducció al tapping” a càrrec de Marta Guasch, Mestra de Reiki i meditació.

El tapping és una eina d’alliberament emocional basada en la pressió de diferents punts clàssics de l’acupuntura xinesa.  És una tècnica molt senzill, innòcua i de resultats sorprenents.

En aquest taller aprendrem els punts de pressió bàsics i la tècnica necessària per a tractar qualsevol problema físic o emocional que tinguem!

URI:https://www.elpont.cat/actualitat/agenda/dia-internacional-de-les-dones-taller-practic-introduccio-al-tapping.html
CLASS:PUBLIC
END:VEVENT
END:VCALENDAR
