BEGIN:VCALENDAR
VERSION:2.0
CALSCALE:GREGORIAN
PRODID:-//Diputació de Barcelona//DibaCMS//EN
BEGIN:VEVENT
UID:3349
DTSTAMP:20260423T000444
DTSTART:20190315T220000
DTEND:20190315T220000
SUMMARY:Dia internacional de les dones - Quart sopar de dones del Pont de Vilomara i Rocafort
LOCATION:Sant Pere Regalat, 18-28 08254 El Pont de Vilomara i Rocafort
METHOD:PUBLISH
X-WR-CALNAME:info.pont@elpont.cat
X-WR-TIMEZONE:Europe/Madrid
DESCRIPTION:Després del sopar hi haurà un espectacle d'improvització amb "Impro Barcelona"

Preu del sopar: menú de carn, 16 € / menú de peix, 18 €.

Cal recollir tiquet a l'Ajuntament abans del 12 de març

URI:https://www.elpont.cat/actualitat/agenda/dia-internacional-de-les-dones-quart-sopar-de-dones-del-pont-de-vilomara-i-rocafort.html
CLASS:PUBLIC
END:VEVENT
END:VCALENDAR
