BEGIN:VCALENDAR
VERSION:2.0
CALSCALE:GREGORIAN
PRODID:-//Diputació de Barcelona//DibaCMS//EN
BEGIN:VEVENT
UID:3350
DTSTAMP:20260423T060310
DTSTART:20190317T110000
DTEND:20190317T110000
SUMMARY:Dotzena caminada popular "El tuc"
LOCATION:Sortida i arribada des del refugi "El Tuc" 
METHOD:PUBLISH
X-WR-CALNAME:info.pont@elpont.cat
X-WR-TIMEZONE:Europe/Madrid
DESCRIPTION:La caminada la podeu fer amb el vostre gos o traient a un gos del nostre refugi, que us estarà molt agraït. A l’acabar gaudirem d’un aperitiu de cloenda. 

 

URI:https://www.elpont.cat/actualitat/agenda/dotzena-caminada-popular-el-tuc.html
CLASS:PUBLIC
END:VEVENT
END:VCALENDAR
