BEGIN:VCALENDAR
VERSION:2.0
CALSCALE:GREGORIAN
PRODID:-//Diputació de Barcelona//DibaCMS//EN
BEGIN:VEVENT
UID:3351
DTSTAMP:20260423T040039
DTSTART:20190311T000000
DTEND:20190319T000000
SUMMARY:Exposició del cens electoral per les properes eleccions generals del 28 d'abril de 2019
LOCATION:
METHOD:PUBLISH
X-WR-CALNAME:info.pont@elpont.cat
X-WR-TIMEZONE:Europe/Madrid
DESCRIPTION:Es pot consultar en horari d'oficines.

URI:https://www.elpont.cat/actualitat/agenda/3351-exposicio-del-cens-electoral-per-les-properes-eleccions-generals-del-28-dabril-de-2019.html
CLASS:PUBLIC
END:VEVENT
END:VCALENDAR
