BEGIN:VCALENDAR
VERSION:2.0
CALSCALE:GREGORIAN
PRODID:-//Diputació de Barcelona//DibaCMS//EN
BEGIN:VEVENT
UID:3353
DTSTAMP:20260423T022357
DTSTART:20190326T150000
DTEND:20190326T150000
SUMMARY:Dia internacional de les dones - Xerrada "Comprendre els nostres somnis"
LOCATION:Sant Pere Regalat, 72, baixos 08254 El Pont de Vilomara i Rocafort
METHOD:PUBLISH
X-WR-CALNAME:info.pont@elpont.cat
X-WR-TIMEZONE:Europe/Madrid
DESCRIPTION:Xerrada "Comprendre els nostres somnis” a càrrec de Mireia Darder, psicoterapèuta Gestalt.

Els somnis poden ser una bona eina terapèutica que, amb diferents tècniques, ens permeten veure quins són els nostres patrons interns a nivell emocional i mental.

En aquesta xerrada ens donaran les pautes per a entendre els somnis i d’aquesta manera, millorar i entendre aspectes de la nostra vida!

URI:https://www.elpont.cat/actualitat/agenda/dia-internacional-de-les-dones-xerrada-comprendre-els-nostres-somnis.html
CLASS:PUBLIC
END:VEVENT
END:VCALENDAR
