BEGIN:VCALENDAR
VERSION:2.0
CALSCALE:GREGORIAN
PRODID:-//Diputació de Barcelona//DibaCMS//EN
BEGIN:VEVENT
UID:3355
DTSTAMP:20260423T015921
DTSTART:20190529T150000
DTEND:20190529T150000
SUMMARY:Xerrada "Últimes tendències en interiorisme i decoració de la llar"
LOCATION:Sant Pere Regalat, 72, baixos 08254 El Pont de Vilomara i Rocafort
METHOD:PUBLISH
X-WR-CALNAME:info.pont@elpont.cat
X-WR-TIMEZONE:Europe/Madrid
DESCRIPTION:Xerrada sobre les últimes tendències de primavera i estiu en interiorisme i decoració de la llar amb consells pràctics a càrrec de l'estudi d'interiorisme de Manresa El Niu!!

URI:https://www.elpont.cat/actualitat/agenda/xerrada-ultimes-tendencies-en-interiorisme-i-decoracio-de-la-llar.html
CLASS:PUBLIC
END:VEVENT
END:VCALENDAR
