BEGIN:VCALENDAR
VERSION:2.0
CALSCALE:GREGORIAN
PRODID:-//Diputació de Barcelona//DibaCMS//EN
BEGIN:VEVENT
UID:3357
DTSTAMP:20260422T234511
DTSTART:20190622T000000
DTEND:20190622T000000
SUMMARY: Obertura de la piscina municipal
LOCATION:Girona, s/n 08254 El Pont de Vilomara i Rocafort
METHOD:PUBLISH
X-WR-CALNAME:info.pont@elpont.cat
X-WR-TIMEZONE:Europe/Madrid
DESCRIPTION:Comença la temporada d'estiu al Pont de Vilomara i Rocafort amb l'obertura de la piscina municipal

URI:https://www.elpont.cat/actualitat/agenda/-obertura-de-la-piscina-municipal.html
CLASS:PUBLIC
END:VEVENT
END:VCALENDAR
