BEGIN:VCALENDAR
VERSION:2.0
CALSCALE:GREGORIAN
PRODID:-//Diputació de Barcelona//DibaCMS//EN
BEGIN:VEVENT
UID:3358
DTSTAMP:20260423T035054
DTSTART:20190603T000000
DTEND:20190603T000000
SUMMARY:Carnets piscina, cursets de natació i promo sala polivalent
LOCATION:Sant Jeroni, 12-14  08254 El Pont de Vilomara i Rocafort
METHOD:PUBLISH
X-WR-CALNAME:info.pont@elpont.cat
X-WR-TIMEZONE:Europe/Madrid
DESCRIPTION:Comença la renovació dels carnets de la piscina i les inscripcions als cursets de natació i a la promoció d'estiu de la Sala Polivalent

URI:https://www.elpont.cat/actualitat/agenda/carnets-piscina-cursets-de-natacio-i-promo-sala-polivalent.html
CLASS:PUBLIC
END:VEVENT
END:VCALENDAR
