BEGIN:VCALENDAR
VERSION:2.0
CALSCALE:GREGORIAN
PRODID:-//Diputació de Barcelona//DibaCMS//EN
BEGIN:VEVENT
UID:3359
DTSTAMP:20260423T035452
DTSTART:20190626T000000
DTEND:20190626T000000
SUMMARY:Darrer dia per inscriure's als cursets de natació
LOCATION:
METHOD:PUBLISH
X-WR-CALNAME:info.pont@elpont.cat
X-WR-TIMEZONE:Europe/Madrid
DESCRIPTION:
URI:https://www.elpont.cat/actualitat/agenda/darrer-dia-per-inscriures-als-cursets-de-natacio.html
CLASS:PUBLIC
END:VEVENT
END:VCALENDAR
