BEGIN:VCALENDAR
VERSION:2.0
CALSCALE:GREGORIAN
PRODID:-//Diputació de Barcelona//DibaCMS//EN
BEGIN:VEVENT
UID:3362
DTSTAMP:20260423T021955
DTSTART:20190602T120000
DTEND:20190602T120000
SUMMARY:Acte de la modificació de la denominació del casal com a “Casal Ledez”
LOCATION:Passeig de la Pau, s/n 08254 El Pont de Vilomara i Rocafort
METHOD:PUBLISH
X-WR-CALNAME:info.pont@elpont.cat
X-WR-TIMEZONE:Europe/Madrid
DESCRIPTION:Canvi de denominació de l'antic Casal de la Mainada pel nou nom "Casal Ledez" en homenatge a Juan Antonio Ledesma que ens va deixar de manera sobtada recentment.

URI:https://www.elpont.cat/actualitat/agenda/3362-acte-de-la-modificacio-de-la-denominacio-del-casal-com-a-casal-ledez.html
CLASS:PUBLIC
END:VEVENT
END:VCALENDAR
