BEGIN:VCALENDAR
VERSION:2.0
CALSCALE:GREGORIAN
PRODID:-//Diputació de Barcelona//DibaCMS//EN
BEGIN:VEVENT
UID:3363
DTSTAMP:20260423T040402
DTSTART:20190605T150000
DTEND:20190605T150000
SUMMARY:Tertúlia literària sobre la novel·la "Argelagues" de Gemma Ruiz
LOCATION:Sant Pere Regalat, 72, baixos 08254 El Pont de Vilomara i Rocafort
METHOD:PUBLISH
X-WR-CALNAME:info.pont@elpont.cat
X-WR-TIMEZONE:Europe/Madrid
DESCRIPTION:A càrrec de Teresa Martínez Méndez.

URI:https://www.elpont.cat/actualitat/agenda/tertulia-literaria-sobre-la-novella-argelagues-de-gemma-ruiz.html
CLASS:PUBLIC
END:VEVENT
END:VCALENDAR
