BEGIN:VCALENDAR
VERSION:2.0
CALSCALE:GREGORIAN
PRODID:-//Diputació de Barcelona//DibaCMS//EN
BEGIN:VEVENT
UID:3365
DTSTAMP:20260423T020136
DTSTART:20190608T093000
DTEND:20190608T093000
SUMMARY:Activitat suspesa: Ruta entre vinyes - maridatge literatura i vi
LOCATION:Plaça Margarida 08254 El Pont de Vilomara i Rocafort
METHOD:PUBLISH
X-WR-CALNAME:info.pont@elpont.cat
X-WR-TIMEZONE:Europe/Madrid
DESCRIPTION:Per motius aliens a nosaltres, aquesta activitat ha estat suspesa. Properament proposarem una nova data per realitzar-la, us mantindrem informats/des.

URI:https://www.elpont.cat/actualitat/agenda/activitat-suspesa-ruta-entre-vinyes-maridatge-literatura-i-vi.html
CLASS:PUBLIC
END:VEVENT
END:VCALENDAR
