BEGIN:VCALENDAR
VERSION:2.0
CALSCALE:GREGORIAN
PRODID:-//Diputació de Barcelona//DibaCMS//EN
BEGIN:VEVENT
UID:3366
DTSTAMP:20260422T234719
DTSTART:20190606T163000
DTEND:20190606T163000
SUMMARY:Programa gent gran activa "Ball amb Jordi"
LOCATION:Plaça Margarida, s/n. 08254 El Pont de Vilomara i Rocafort
METHOD:PUBLISH
X-WR-CALNAME:info.pont@elpont.cat
X-WR-TIMEZONE:Europe/Madrid
DESCRIPTION:Ball amb Jordi

URI:https://www.elpont.cat/actualitat/agenda/3366-programa-gent-gran-activa-ball-amb-jordi.html
CLASS:PUBLIC
END:VEVENT
END:VCALENDAR
