BEGIN:VCALENDAR
VERSION:2.0
CALSCALE:GREGORIAN
PRODID:-//Diputació de Barcelona//DibaCMS//EN
BEGIN:VEVENT
UID:3368
DTSTAMP:20260423T024359
DTSTART:20190606T153000
DTEND:20190606T153000
SUMMARY:Inauguració de l'exposició fotogràfica "Refugiades"
LOCATION:Sant Pere Regalat, 72, baixos 08254 El Pont de Vilomara i Rocafort
METHOD:PUBLISH
X-WR-CALNAME:info.pont@elpont.cat
X-WR-TIMEZONE:Europe/Madrid
DESCRIPTION:Inauguració de l'exposició amb una visita guiada a càrrec de l'autor de les fotografies.

URI:https://www.elpont.cat/actualitat/agenda/inauguracio-de-lexposicio-fotografica-refugiades.html
CLASS:PUBLIC
END:VEVENT
END:VCALENDAR
