BEGIN:VCALENDAR
VERSION:2.0
CALSCALE:GREGORIAN
PRODID:-//Diputació de Barcelona//DibaCMS//EN
BEGIN:VEVENT
UID:3370
DTSTAMP:20260423T021457
DTSTART:20190603T000000
DTEND:20190612T133000
SUMMARY:Convocatòria oficial de peó de la brigada municipal 2019
LOCATION:
METHOD:PUBLISH
X-WR-CALNAME:info.pont@elpont.cat
X-WR-TIMEZONE:Europe/Madrid
DESCRIPTION:Termini per presentar la documentació per optar a les proves del procés de selecció que es faran el dilluns 17 de juny de 2019 a les 8:30h del matí a les dependències de la Casa de la Cultura.

URI:https://www.elpont.cat/actualitat/agenda/3370-convocatoria-oficial-de-peo-de-la-brigada-municipal-2019.html
CLASS:PUBLIC
END:VEVENT
END:VCALENDAR
