BEGIN:VCALENDAR
VERSION:2.0
CALSCALE:GREGORIAN
PRODID:-//Diputació de Barcelona//DibaCMS//EN
BEGIN:VEVENT
UID:3378
DTSTAMP:20260423T021855
DTSTART:20190620T163000
DTEND:20190620T163000
SUMMARY:Programa gent gran activa "Ball amb Xarop de Nit"
LOCATION:
METHOD:PUBLISH
X-WR-CALNAME:info.pont@elpont.cat
X-WR-TIMEZONE:Europe/Madrid
DESCRIPTION:
URI:https://www.elpont.cat/actualitat/agenda/3378-programa-gent-gran-activa-ball-amb-xarop-de-nit.html
CLASS:PUBLIC
END:VEVENT
END:VCALENDAR
