BEGIN:VCALENDAR
VERSION:2.0
CALSCALE:GREGORIAN
PRODID:-//Diputació de Barcelona//DibaCMS//EN
BEGIN:VEVENT
UID:3391
DTSTAMP:20260422T190503
DTSTART:20190626T200000
DTEND:20190626T200000
SUMMARY:Recepcio oficial al juvenil A del CF Vilomara com a Campió de Lliga 2019
LOCATION:Plaça de l'Ajuntament, 1 08254 El Pont de Vilomara i Rocafort
METHOD:PUBLISH
X-WR-CALNAME:info.pont@elpont.cat
X-WR-TIMEZONE:Europe/Madrid
DESCRIPTION:El juvenil A del Cf Vilomara es va proclamar campió de lliga fa molts pocs dies, l'Ajuntament vol homenatjar l'equip fent una recepció oficial a la Sala d'Actes.

Veniu a celebrar-ho.

URI:https://www.elpont.cat/actualitat/agenda/recepcio-oficial-al-juvenil-a-del-cf-vilomara-com-a-campio-de-lliga-2019.html
CLASS:PUBLIC
END:VEVENT
END:VCALENDAR
