BEGIN:VCALENDAR
VERSION:2.0
CALSCALE:GREGORIAN
PRODID:-//Diputació de Barcelona//DibaCMS//EN
BEGIN:VEVENT
UID:3398
DTSTAMP:20260422T180134
DTSTART:20190713T090000
DTEND:20190713T120000
SUMMARY:Festa Major 2019 - Concurs de pesca infantil
LOCATION:Concentració a les 8 del matí al Bar Chiringuito 
METHOD:PUBLISH
X-WR-CALNAME:info.pont@elpont.cat
X-WR-TIMEZONE:Europe/Madrid
DESCRIPTION:
URI:https://www.elpont.cat/actualitat/agenda/festa-major-2019-concurs-de-pesca-infantil.html
CLASS:PUBLIC
END:VEVENT
END:VCALENDAR
