BEGIN:VCALENDAR
VERSION:2.0
CALSCALE:GREGORIAN
PRODID:-//Diputació de Barcelona//DibaCMS//EN
BEGIN:VEVENT
UID:3399
DTSTAMP:20260422T191117
DTSTART:20190713T190000
DTEND:20190713T190000
SUMMARY:Festa Major 2019 - Taller per cuiners i jocs gegants
LOCATION:Plaça Major 08254 El Pont de Vilomara i Rocafort
METHOD:PUBLISH
X-WR-CALNAME:info.pont@elpont.cat
X-WR-TIMEZONE:Europe/Madrid
DESCRIPTION:
URI:https://www.elpont.cat/actualitat/agenda/festa-major-2019-taller-per-cuiners-i-jocs-gegants.html
CLASS:PUBLIC
END:VEVENT
END:VCALENDAR
