BEGIN:VCALENDAR
VERSION:2.0
CALSCALE:GREGORIAN
PRODID:-//Diputació de Barcelona//DibaCMS//EN
BEGIN:VEVENT
UID:3400
DTSTAMP:20260422T160710
DTSTART:20190713T220000
DTEND:20190713T220000
SUMMARY:Festa Major 2019 - Cinema a la fresca (ACTE ANUL·LAT)
LOCATION:Plaça Major 08254 El Pont de Vilomara i Rocafort
METHOD:PUBLISH
X-WR-CALNAME:info.pont@elpont.cat
X-WR-TIMEZONE:Europe/Madrid
DESCRIPTION:
URI:https://www.elpont.cat/actualitat/agenda/festa-major-2019-cinema-a-la-fresca-acte-anullat.html
CLASS:PUBLIC
END:VEVENT
END:VCALENDAR
