BEGIN:VCALENDAR
VERSION:2.0
CALSCALE:GREGORIAN
PRODID:-//Diputació de Barcelona//DibaCMS//EN
BEGIN:VEVENT
UID:3401
DTSTAMP:20260422T212147
DTSTART:20190713T183000
DTEND:20190713T183000
SUMMARY:Festa Major 2019 - Partit de Veterans
LOCATION:Manresa, s/n El Pont de Vilomara i Rocafort
METHOD:PUBLISH
X-WR-CALNAME:info.pont@elpont.cat
X-WR-TIMEZONE:Europe/Madrid
DESCRIPTION:AV. Vilomara - AV. Joan de Palà

URI:https://www.elpont.cat/actualitat/agenda/festa-major-2019-partit-de-veterans.html
CLASS:PUBLIC
END:VEVENT
END:VCALENDAR
