BEGIN:VCALENDAR
VERSION:2.0
CALSCALE:GREGORIAN
PRODID:-//Diputació de Barcelona//DibaCMS//EN
BEGIN:VEVENT
UID:3403
DTSTAMP:20260422T144425
DTSTART:20190714T080000
DTEND:20190714T130000
SUMMARY:Festa Major 2019 - Concurs de pesca
LOCATION:Concentració al Bar Chiringuito a les 6:30 del matí. 
METHOD:PUBLISH
X-WR-CALNAME:info.pont@elpont.cat
X-WR-TIMEZONE:Europe/Madrid
DESCRIPTION:
URI:https://www.elpont.cat/actualitat/agenda/festa-major-2019-concurs-de-pesca.html
CLASS:PUBLIC
END:VEVENT
END:VCALENDAR
