BEGIN:VCALENDAR
VERSION:2.0
CALSCALE:GREGORIAN
PRODID:-//Diputació de Barcelona//DibaCMS//EN
BEGIN:VEVENT
UID:3404
DTSTAMP:20260423T011651
DTSTART:20190714T090000
DTEND:20190714T090000
SUMMARY:Festa Major 2019 - Torneig amistós de petanca
LOCATION:Pistes de petanca 
METHOD:PUBLISH
X-WR-CALNAME:info.pont@elpont.cat
X-WR-TIMEZONE:Europe/Madrid
DESCRIPTION:CP. Marquet Paradís

Obert a jugadors, socis i simpatitzants locals.

URI:https://www.elpont.cat/actualitat/agenda/festa-major-2019-torneig-amistos-de-petanca.html
CLASS:PUBLIC
END:VEVENT
END:VCALENDAR
