BEGIN:VCALENDAR
VERSION:2.0
CALSCALE:GREGORIAN
PRODID:-//Diputació de Barcelona//DibaCMS//EN
BEGIN:VEVENT
UID:3405
DTSTAMP:20260422T184316
DTSTART:20190714T093000
DTEND:20190714T093000
SUMMARY:Festa Major 2019 - V Gimcana infantil "Tots a l'aigua"
LOCATION:Zona Passeig de la Pau 
METHOD:PUBLISH
X-WR-CALNAME:info.pont@elpont.cat
X-WR-TIMEZONE:Europe/Madrid
DESCRIPTION:Amb festa de l'escuma

URI:https://www.elpont.cat/actualitat/agenda/festa-major-2019-v-gimcana-infantil-tots-a-laigua.html
CLASS:PUBLIC
END:VEVENT
END:VCALENDAR
