BEGIN:VCALENDAR
VERSION:2.0
CALSCALE:GREGORIAN
PRODID:-//Diputació de Barcelona//DibaCMS//EN
BEGIN:VEVENT
UID:3407
DTSTAMP:20260422T173055
DTSTART:20190718T190000
DTEND:20190718T190000
SUMMARY:Festa Major 2019 - Showcooking de tapes i pinxos d'estiu
LOCATION:Sant Pere Regalat, 72, baixos 08254 El Pont de Vilomara i Rocafort
METHOD:PUBLISH
X-WR-CALNAME:info.pont@elpont.cat
X-WR-TIMEZONE:Europe/Madrid
DESCRIPTION:A càrrec del cuiner David Brunet

URI:https://www.elpont.cat/actualitat/agenda/festa-major-2019-showcooking-de-tapes-i-pinxos-destiu.html
CLASS:PUBLIC
END:VEVENT
END:VCALENDAR
