BEGIN:VCALENDAR
VERSION:2.0
CALSCALE:GREGORIAN
PRODID:-//Diputació de Barcelona//DibaCMS//EN
BEGIN:VEVENT
UID:3408
DTSTAMP:20260422T202404
DTSTART:20190719T180000
DTEND:20190719T180000
SUMMARY:Festa Major 2019 - Berenar - ball de jubilats
LOCATION:Sant Pere Regalat, 18-28 08254 El Pont de Vilomara i Rocafort
METHOD:PUBLISH
X-WR-CALNAME:info.pont@elpont.cat
X-WR-TIMEZONE:Europe/Madrid
DESCRIPTION:Elecció de la Pubilla i l'Hereu Jubilats.

URI:https://www.elpont.cat/actualitat/agenda/festa-major-2019-berenar-ball-de-jubilats.html
CLASS:PUBLIC
END:VEVENT
END:VCALENDAR
