BEGIN:VCALENDAR
VERSION:2.0
CALSCALE:GREGORIAN
PRODID:-//Diputació de Barcelona//DibaCMS//EN
BEGIN:VEVENT
UID:3413
DTSTAMP:20260422T212110
DTSTART:20190719T220000
DTEND:20190719T220000
SUMMARY:Festa Major 2019 - Salutació d'inici de la Festa Major
LOCATION:Plaça de l'Ajuntament 
METHOD:PUBLISH
X-WR-CALNAME:info.pont@elpont.cat
X-WR-TIMEZONE:Europe/Madrid
DESCRIPTION:A càrrec de la Pubilla, la Dama i l'Hereu 2019 del municipi

URI:https://www.elpont.cat/actualitat/agenda/festa-major-2019-salutacio-dinici-de-la-festa-major.html
CLASS:PUBLIC
END:VEVENT
END:VCALENDAR
