BEGIN:VCALENDAR
VERSION:2.0
CALSCALE:GREGORIAN
PRODID:-//Diputació de Barcelona//DibaCMS//EN
BEGIN:VEVENT
UID:3414
DTSTAMP:20260422T183925
DTSTART:20190719T221500
DTEND:20190719T221500
SUMMARY:Festa Major 2019 - Espectacle Barafoc
LOCATION:Plaça de l'Ajuntament 
METHOD:PUBLISH
X-WR-CALNAME:info.pont@elpont.cat
X-WR-TIMEZONE:Europe/Madrid
DESCRIPTION:A càrrec de Toniton

URI:https://www.elpont.cat/actualitat/agenda/festa-major-2019-espectacle-barafoc.html
CLASS:PUBLIC
END:VEVENT
END:VCALENDAR
