BEGIN:VCALENDAR
VERSION:2.0
CALSCALE:GREGORIAN
PRODID:-//Diputació de Barcelona//DibaCMS//EN
BEGIN:VEVENT
UID:3415
DTSTAMP:20260422T173331
DTSTART:20190720T003000
DTEND:20190720T003000
SUMMARY:Festa Major 2019 - Concert amb "El Club de las Muñecas"
LOCATION:Passeig de la Pau, s/n 08254 El Pont de Vilomara i Rocafort
METHOD:PUBLISH
X-WR-CALNAME:info.pont@elpont.cat
X-WR-TIMEZONE:Europe/Madrid
DESCRIPTION:Abans del concert es podrà gaudir del grup "Niño remedio y sus compadres".

Seguidament el concert i, finalitzat aquest, continuarem amb una sessió de DJ que ens faran ballar la resta de la nit.

URI:https://www.elpont.cat/actualitat/agenda/festa-major-2019-concert-amb-el-club-de-las-munecas.html
CLASS:PUBLIC
END:VEVENT
END:VCALENDAR
