BEGIN:VCALENDAR
VERSION:2.0
CALSCALE:GREGORIAN
PRODID:-//Diputació de Barcelona//DibaCMS//EN
BEGIN:VEVENT
UID:3418
DTSTAMP:20260423T024423
DTSTART:20190720T160000
DTEND:20190722T000000
SUMMARY:Festa Major 2019 - Keep calm and dance techno "In the picnic"
LOCATION:El Bosquet 
METHOD:PUBLISH
X-WR-CALNAME:info.pont@elpont.cat
X-WR-TIMEZONE:Europe/Madrid
DESCRIPTION:
URI:https://www.elpont.cat/actualitat/agenda/festa-major-2019-keep-calm-and-dance-techno-in-the-picnic.html
CLASS:PUBLIC
END:VEVENT
END:VCALENDAR
