BEGIN:VCALENDAR
VERSION:2.0
CALSCALE:GREGORIAN
PRODID:-//Diputació de Barcelona//DibaCMS//EN
BEGIN:VEVENT
UID:3421
DTSTAMP:20260423T041052
DTSTART:20190720T180000
DTEND:20190720T180000
SUMMARY:Festa Major 2019 - Inauguració de l'exposició de manualitats
LOCATION: Santa Magdalena, 4 08254 El Pont de Vilomara i Rocafort
METHOD:PUBLISH
X-WR-CALNAME:info.pont@elpont.cat
X-WR-TIMEZONE:Europe/Madrid
DESCRIPTION:
URI:https://www.elpont.cat/actualitat/agenda/festa-major-2019-inauguracio-de-lexposicio-de-manualitats.html
CLASS:PUBLIC
END:VEVENT
END:VCALENDAR
