BEGIN:VCALENDAR
VERSION:2.0
CALSCALE:GREGORIAN
PRODID:-//Diputació de Barcelona//DibaCMS//EN
BEGIN:VEVENT
UID:3424
DTSTAMP:20260422T213340
DTSTART:20190720T200000
DTEND:20190720T200000
SUMMARY:Festa Major 2019 - Audició de sardanes
LOCATION:Plaça Major 08254 El Pont de Vilomara i Rocafort
METHOD:PUBLISH
X-WR-CALNAME:info.pont@elpont.cat
X-WR-TIMEZONE:Europe/Madrid
DESCRIPTION:A càrrec de la Cobla Genisenca

URI:https://www.elpont.cat/actualitat/agenda/festa-major-2019-audicio-de-sardanes.html
CLASS:PUBLIC
END:VEVENT
END:VCALENDAR
