BEGIN:VCALENDAR
VERSION:2.0
CALSCALE:GREGORIAN
PRODID:-//Diputació de Barcelona//DibaCMS//EN
BEGIN:VEVENT
UID:3425
DTSTAMP:20260423T000544
DTSTART:20190720T235900
DTEND:20190720T235900
SUMMARY:Festa Major 2019 - Ball de Festa Major
LOCATION:Passeig de la Pau, s/n 08254 El Pont de Vilomara i Rocafort
METHOD:PUBLISH
X-WR-CALNAME:info.pont@elpont.cat
X-WR-TIMEZONE:Europe/Madrid
DESCRIPTION:A càrrec de Banda Sonora

URI:https://www.elpont.cat/actualitat/agenda/festa-major-2019-ball-de-festa-major.html
CLASS:PUBLIC
END:VEVENT
END:VCALENDAR
