BEGIN:VCALENDAR
VERSION:2.0
CALSCALE:GREGORIAN
PRODID:-//Diputació de Barcelona//DibaCMS//EN
BEGIN:VEVENT
UID:3427
DTSTAMP:20260423T023219
DTSTART:20190721T100000
DTEND:20190721T140000
SUMMARY:Festa Major 2019 - Moltes gràcies donant ! Vine a donar sang
LOCATION:Consultori municipal 
METHOD:PUBLISH
X-WR-CALNAME:info.pont@elpont.cat
X-WR-TIMEZONE:Europe/Madrid
DESCRIPTION:Organitza el Banc de Sang i Teixits conjuntament amb l'Ajuntament

URI:https://www.elpont.cat/actualitat/agenda/festa-major-2019-moltes-gracies-donant--vine-a-donar-sang.html
CLASS:PUBLIC
END:VEVENT
END:VCALENDAR
