BEGIN:VCALENDAR
VERSION:2.0
CALSCALE:GREGORIAN
PRODID:-//Diputació de Barcelona//DibaCMS//EN
BEGIN:VEVENT
UID:3429
DTSTAMP:20260423T035127
DTSTART:20190721T100000
DTEND:20190721T130000
SUMMARY:Festa Major 2019 - Exposició de pintura
LOCATION:Mestre Saura, 5-B El Pont de Vilomara i Rocafort
METHOD:PUBLISH
X-WR-CALNAME:info.pont@elpont.cat
X-WR-TIMEZONE:Europe/Madrid
DESCRIPTION:
URI:https://www.elpont.cat/actualitat/agenda/3429-festa-major-2019-exposicio-de-pintura.html
CLASS:PUBLIC
END:VEVENT
END:VCALENDAR
