BEGIN:VCALENDAR
VERSION:2.0
CALSCALE:GREGORIAN
PRODID:-//Diputació de Barcelona//DibaCMS//EN
BEGIN:VEVENT
UID:3430
DTSTAMP:20260422T230440
DTSTART:20190721T104500
DTEND:20190721T104500
SUMMARY:Festa Major 2019 - Ofici solemne de Festa Major
LOCATION:Plaça Major, s/n 08254 El Pont de Vilomara i Rocafort
METHOD:PUBLISH
X-WR-CALNAME:info.pont@elpont.cat
X-WR-TIMEZONE:Europe/Madrid
DESCRIPTION:Cantat pel Cor Parroquial de Santa Maria Magdalena

URI:https://www.elpont.cat/actualitat/agenda/festa-major-2019-ofici-solemne-de-festa-major.html
CLASS:PUBLIC
END:VEVENT
END:VCALENDAR
