BEGIN:VCALENDAR
VERSION:2.0
CALSCALE:GREGORIAN
PRODID:-//Diputació de Barcelona//DibaCMS//EN
BEGIN:VEVENT
UID:3431
DTSTAMP:20260423T040259
DTSTART:20190721T120000
DTEND:20190721T120000
SUMMARY:Festa Major 2019 - Cercavila amb el Gegants i Grallers del Grup d'Infància i Joventut
LOCATION:Sortida des de la Plaça de l'Ajuntament 
METHOD:PUBLISH
X-WR-CALNAME:info.pont@elpont.cat
X-WR-TIMEZONE:Europe/Madrid
DESCRIPTION:Seguidament es farà el lliurament de premis del concurs de dibuix

URI:https://www.elpont.cat/actualitat/agenda/festa-major-2019-cercavila-amb-el-gegants-i-grallers-del-grup-dinfancia-i-joventut.html
CLASS:PUBLIC
END:VEVENT
END:VCALENDAR
