BEGIN:VCALENDAR
VERSION:2.0
CALSCALE:GREGORIAN
PRODID:-//Diputació de Barcelona//DibaCMS//EN
BEGIN:VEVENT
UID:3432
DTSTAMP:20260423T010201
DTSTART:20190721T163000
DTEND:20190721T163000
SUMMARY:Festa Major 2019 - Correaigua i festa Holi
LOCATION:Sortida des del Passeig de la Pau 
METHOD:PUBLISH
X-WR-CALNAME:info.pont@elpont.cat
X-WR-TIMEZONE:Europe/Madrid
DESCRIPTION:Seguidament Festa Holi "GlobalHoli" by Delayso a la Plaça de l'Ajuntament

URI:https://www.elpont.cat/actualitat/agenda/festa-major-2019-correaigua-i-festa-holi.html
CLASS:PUBLIC
END:VEVENT
END:VCALENDAR
