BEGIN:VCALENDAR
VERSION:2.0
CALSCALE:GREGORIAN
PRODID:-//Diputació de Barcelona//DibaCMS//EN
BEGIN:VEVENT
UID:3436
DTSTAMP:20260422T160431
DTSTART:20190722T160000
DTEND:20190722T190000
SUMMARY:Festa Major 2019 - Parc Aquàtic
LOCATION:Girona, s/n 08254 El Pont de Vilomara i Rocafort
METHOD:PUBLISH
X-WR-CALNAME:info.pont@elpont.cat
X-WR-TIMEZONE:Europe/Madrid
DESCRIPTION:Entrada gratuïta als residents del poble i socis

URI:https://www.elpont.cat/actualitat/agenda/3436-festa-major-2019-parc-aquatic.html
CLASS:PUBLIC
END:VEVENT
END:VCALENDAR
