BEGIN:VCALENDAR
VERSION:2.0
CALSCALE:GREGORIAN
PRODID:-//Diputació de Barcelona//DibaCMS//EN
BEGIN:VEVENT
UID:3437
DTSTAMP:20260422T134142
DTSTART:20190722T110000
DTEND:20190722T110000
SUMMARY:Festa Major 2019 - Missa solemne en honor a Santa Magdalena amb el "Cant dels Goigs"
LOCATION:Capella de Santa Maria Magdalena (cementiri) 
METHOD:PUBLISH
X-WR-CALNAME:info.pont@elpont.cat
X-WR-TIMEZONE:Europe/Madrid
DESCRIPTION:
URI:https://www.elpont.cat/actualitat/agenda/festa-major-2019-missa-solemne-en-honor-a-santa-magdalena-amb-el-cant-dels-goigs.html
CLASS:PUBLIC
END:VEVENT
END:VCALENDAR
